BEGIN:VCALENDAR
VERSION:2.0
PRODID:-//INABC - ECPv6.15.10//NONSGML v1.0//EN
CALSCALE:GREGORIAN
METHOD:PUBLISH
X-WR-CALNAME:INABC
X-ORIGINAL-URL:https://inabc.org
X-WR-CALDESC:Events for INABC
REFRESH-INTERVAL;VALUE=DURATION:PT1H
X-Robots-Tag:noindex
X-PUBLISHED-TTL:PT1H
BEGIN:VTIMEZONE
TZID:America/Indiana/Indianapolis
BEGIN:DAYLIGHT
TZOFFSETFROM:-0500
TZOFFSETTO:-0400
TZNAME:EDT
DTSTART:20160313T070000
END:DAYLIGHT
BEGIN:STANDARD
TZOFFSETFROM:-0400
TZOFFSETTO:-0500
TZNAME:EST
DTSTART:20161106T060000
END:STANDARD
BEGIN:DAYLIGHT
TZOFFSETFROM:-0500
TZOFFSETTO:-0400
TZNAME:EDT
DTSTART:20170312T070000
END:DAYLIGHT
BEGIN:STANDARD
TZOFFSETFROM:-0400
TZOFFSETTO:-0500
TZNAME:EST
DTSTART:20171105T060000
END:STANDARD
BEGIN:DAYLIGHT
TZOFFSETFROM:-0500
TZOFFSETTO:-0400
TZNAME:EDT
DTSTART:20180311T070000
END:DAYLIGHT
BEGIN:STANDARD
TZOFFSETFROM:-0400
TZOFFSETTO:-0500
TZNAME:EST
DTSTART:20181104T060000
END:STANDARD
BEGIN:DAYLIGHT
TZOFFSETFROM:-0500
TZOFFSETTO:-0400
TZNAME:EDT
DTSTART:20190310T070000
END:DAYLIGHT
BEGIN:STANDARD
TZOFFSETFROM:-0400
TZOFFSETTO:-0500
TZNAME:EST
DTSTART:20191103T060000
END:STANDARD
END:VTIMEZONE
BEGIN:VEVENT
DTSTART;TZID=America/Indiana/Indianapolis:20181101T090000
DTEND;TZID=America/Indiana/Indianapolis:20181102T160000
DTSTAMP:20260423T182414
CREATED:20171223T182654Z
LAST-MODIFIED:20181011T201038Z
UID:3302-1541062800-1541174400@inabc.org
SUMMARY:2018 Annual Conference
DESCRIPTION:Agenda and Related Information TBA
URL:https://inabc.org/event/2018-annual-conference/
LOCATION:Wyndham Indianapolis West\, 2544 Executive Drive\, Indianapolis\, IN\, 46241\, United States
END:VEVENT
BEGIN:VEVENT
DTSTART;TZID=America/Indiana/Indianapolis:20180803T090000
DTEND;TZID=America/Indiana/Indianapolis:20180803T150000
DTSTAMP:20260423T182414
CREATED:20171223T182114Z
LAST-MODIFIED:20180216T124541Z
UID:3299-1533286800-1533308400@inabc.org
SUMMARY:August Association Meeting
DESCRIPTION:Tentative Agenda:\n\n9-11 a.m. — Membership meeting (details to follow)\n11-1 p.m. — Lunch on your own\n\nCEU Opportunity:\n\n1-3 p.m. – TBA
URL:https://inabc.org/event/august-association-meeting-2/
LOCATION:Fishers Public Library\, Five Municipal Drive\, Fishers\, IN\, 46038\, United States
END:VEVENT
BEGIN:VEVENT
DTSTART;TZID=America/Indiana/Indianapolis:20180420T090000
DTEND;TZID=America/Indiana/Indianapolis:20180420T150000
DTSTAMP:20260423T182414
CREATED:20171223T175959Z
LAST-MODIFIED:20180117T130851Z
UID:3293-1524214800-1524236400@inabc.org
SUMMARY:April Association Meeting
DESCRIPTION:Tentative Agenda:\n\n9-11 a.m. — Membership meeting (details to follow)\n11-1 p.m. — Lunch on your own\n\nCEU Opportunity:\n\n1-3 p.m. – TBA\n\n 
URL:https://inabc.org/event/april-association-meeting-2/
LOCATION:Fishers Public Library\, Five Municipal Drive\, Fishers\, IN\, 46038\, United States
END:VEVENT
BEGIN:VEVENT
DTSTART;TZID=America/Indiana/Indianapolis:20180119T090000
DTEND;TZID=America/Indiana/Indianapolis:20180119T150000
DTSTAMP:20260423T182414
CREATED:20171223T175559Z
LAST-MODIFIED:20180117T131055Z
UID:3287-1516352400-1516374000@inabc.org
SUMMARY:January Association Meeting
DESCRIPTION:Tentative Agenda:\n\n9 – 11:30 a.m. — Membership meeting\n\n2018 Conference Announcement\nReview of By-Laws subcontractor provision\n2018 Budget review and approval\nOfficer and committee reports\nProfessional Liaison report\n\n\n\n\n11:30 – 1 p.m. — Catered Lunch / Mcallister’s Potato Bar\nCEU Opportunity:\n\nIn respect to IN-ABC’s Best Practice being launched in 2018\, the first presentation and training in regard to Behavior Support Plan development will occur this month: \n\n1 – 3 p.m. – Dr. Lucy Lund will present on “Strength-Based BSPs Using Appreciative Inquiry to Guide Development”. All attendees will earn 2 CEUs.
URL:https://inabc.org/event/january-association-meeting/
LOCATION:Fishers Public Library\, Five Municipal Drive\, Fishers\, IN\, 46038\, United States
END:VEVENT
BEGIN:VEVENT
DTSTART;TZID=America/Indiana/Indianapolis:20171102T090000
DTEND;TZID=America/Indiana/Indianapolis:20171103T170000
DTSTAMP:20260423T182414
CREATED:20170815T215822Z
LAST-MODIFIED:20170815T215822Z
UID:3149-1509613200-1509728400@inabc.org
SUMMARY:Annual Conference
DESCRIPTION:Information and Agenda TBA
URL:https://inabc.org/event/annual-conference/
END:VEVENT
BEGIN:VEVENT
DTSTART;TZID=America/Indiana/Indianapolis:20170804T090000
DTEND;TZID=America/Indiana/Indianapolis:20170804T110000
DTSTAMP:20260423T182414
CREATED:20170501T014633Z
LAST-MODIFIED:20170501T014633Z
UID:2813-1501837200-1501844400@inabc.org
SUMMARY:August Association Meeting
DESCRIPTION:Agenda:\nTBA \nCEU Opportunity:\nTBA
URL:https://inabc.org/event/august-association-meeting/
LOCATION:Fishers Public Library\, Five Municipal Drive\, Fishers\, IN\, 46038\, United States
ORGANIZER;CN="Rob Westcott":MAILTO:robwestcott@comcast.net
END:VEVENT
BEGIN:VEVENT
DTSTART;TZID=America/Indiana/Indianapolis:20170428T090000
DTEND;TZID=America/Indiana/Indianapolis:20170428T110000
DTSTAMP:20260423T182414
CREATED:20170501T014533Z
LAST-MODIFIED:20170501T014701Z
UID:2811-1493370000-1493377200@inabc.org
SUMMARY:April Association Meeting
DESCRIPTION:Agenda:\n9-11 a.m. — Membership meeting\n11-1 p.m. — Lunch on your own \nCEU Opportunity:\n1-3 p.m. –LifeCourse Framework // Julie Reynolds\, Director of Special Projects\, and Kim Opsahl\, DDRS
URL:https://inabc.org/event/april-association-meeting/
LOCATION:Fishers Public Library\, Five Municipal Drive\, Fishers\, IN\, 46038\, United States
ORGANIZER;CN="Rob Westcott":MAILTO:robwestcott@comcast.net
END:VEVENT
END:VCALENDAR