BEGIN:VCALENDAR
VERSION:2.0
PRODID:-//INABC - ECPv6.15.10//NONSGML v1.0//EN
CALSCALE:GREGORIAN
METHOD:PUBLISH
X-ORIGINAL-URL:https://inabc.org
X-WR-CALDESC:Events for INABC
REFRESH-INTERVAL;VALUE=DURATION:PT1H
X-Robots-Tag:noindex
X-PUBLISHED-TTL:PT1H
BEGIN:VTIMEZONE
TZID:America/Indiana/Indianapolis
BEGIN:DAYLIGHT
TZOFFSETFROM:-0500
TZOFFSETTO:-0400
TZNAME:EDT
DTSTART:20180311T070000
END:DAYLIGHT
BEGIN:STANDARD
TZOFFSETFROM:-0400
TZOFFSETTO:-0500
TZNAME:EST
DTSTART:20181104T060000
END:STANDARD
BEGIN:DAYLIGHT
TZOFFSETFROM:-0500
TZOFFSETTO:-0400
TZNAME:EDT
DTSTART:20190310T070000
END:DAYLIGHT
BEGIN:STANDARD
TZOFFSETFROM:-0400
TZOFFSETTO:-0500
TZNAME:EST
DTSTART:20191103T060000
END:STANDARD
BEGIN:DAYLIGHT
TZOFFSETFROM:-0500
TZOFFSETTO:-0400
TZNAME:EDT
DTSTART:20200308T070000
END:DAYLIGHT
BEGIN:STANDARD
TZOFFSETFROM:-0400
TZOFFSETTO:-0500
TZNAME:EST
DTSTART:20201101T060000
END:STANDARD
BEGIN:DAYLIGHT
TZOFFSETFROM:-0500
TZOFFSETTO:-0400
TZNAME:EDT
DTSTART:20210314T070000
END:DAYLIGHT
BEGIN:STANDARD
TZOFFSETFROM:-0400
TZOFFSETTO:-0500
TZNAME:EST
DTSTART:20211107T060000
END:STANDARD
BEGIN:DAYLIGHT
TZOFFSETFROM:-0500
TZOFFSETTO:-0400
TZNAME:EDT
DTSTART:20220313T070000
END:DAYLIGHT
BEGIN:STANDARD
TZOFFSETFROM:-0400
TZOFFSETTO:-0500
TZNAME:EST
DTSTART:20221106T060000
END:STANDARD
BEGIN:DAYLIGHT
TZOFFSETFROM:-0500
TZOFFSETTO:-0400
TZNAME:EDT
DTSTART:20230312T070000
END:DAYLIGHT
BEGIN:STANDARD
TZOFFSETFROM:-0400
TZOFFSETTO:-0500
TZNAME:EST
DTSTART:20231105T060000
END:STANDARD
BEGIN:DAYLIGHT
TZOFFSETFROM:-0500
TZOFFSETTO:-0400
TZNAME:EDT
DTSTART:20240310T070000
END:DAYLIGHT
BEGIN:STANDARD
TZOFFSETFROM:-0400
TZOFFSETTO:-0500
TZNAME:EST
DTSTART:20241103T060000
END:STANDARD
BEGIN:DAYLIGHT
TZOFFSETFROM:-0500
TZOFFSETTO:-0400
TZNAME:EDT
DTSTART:20250309T070000
END:DAYLIGHT
BEGIN:STANDARD
TZOFFSETFROM:-0400
TZOFFSETTO:-0500
TZNAME:EST
DTSTART:20251102T060000
END:STANDARD
END:VTIMEZONE
BEGIN:VEVENT
DTSTART;TZID=America/Indiana/Indianapolis:20240119T090000
DTEND;TZID=America/Indiana/Indianapolis:20240119T120000
DTSTAMP:20260423T134559
CREATED:20240113T200208Z
LAST-MODIFIED:20240114T233513Z
UID:4910-1705654800-1705665600@inabc.org
SUMMARY:January // Association Meeting & CEU Opportunity
DESCRIPTION:January 19\, 2024 \n9:00am – Membership Meeting via Zoom \n10:00am – CEU Opportunity\, Allison Davis\, BCBA\, IDD and Sex Education
URL:https://inabc.org/event/january-association-meeting-ceu-opportunity-2/
LOCATION:IN
END:VEVENT
BEGIN:VEVENT
DTSTART;VALUE=DATE:20231102
DTEND;VALUE=DATE:20231104
DTSTAMP:20260423T134559
CREATED:20230117T233716Z
LAST-MODIFIED:20230117T233716Z
UID:4692-1698883200-1699055999@inabc.org
SUMMARY:November // Annual Conference
DESCRIPTION:November 2 and 3\, 2023 \n11/2 – Membership Meeting\, Board Elections\, Keynote Address TBA \n11/3 – Breakout Sessions\, TBA \n** 10 CEUs will be offered\, and the conference will be held in Muncie\, Indiana at the Horizon Convention Center.
URL:https://inabc.org/event/november-annual-conference/
LOCATION:Courtyard Muncie  at Horizon Convention Center\, 601 South High Street\, Muncie\, IN\, 47305\, United States
END:VEVENT
BEGIN:VEVENT
DTSTART;TZID=America/Indiana/Indianapolis:20230721T090000
DTEND;TZID=America/Indiana/Indianapolis:20230721T123000
DTSTAMP:20260423T134559
CREATED:20230117T233331Z
LAST-MODIFIED:20230117T233331Z
UID:4690-1689930000-1689942600@inabc.org
SUMMARY:July // Association Meeting & CEU Opportunity
DESCRIPTION:July 21\, 2023 \n9:00am – Membership Meeting with a Resource Presentation \n10:15am – CEU Opportunity\, TBA
URL:https://inabc.org/event/july-association-meeting-ceu-opportunity/
LOCATION:Zoom Session:  URL TBA
END:VEVENT
BEGIN:VEVENT
DTSTART;TZID=America/Indiana/Indianapolis:20230421T090000
DTEND;TZID=America/Indiana/Indianapolis:20230421T123000
DTSTAMP:20260423T134559
CREATED:20230117T233134Z
LAST-MODIFIED:20230117T233134Z
UID:4688-1682067600-1682080200@inabc.org
SUMMARY:April // Association Meeting & CEU Opportunity
DESCRIPTION:April 21\, 2023 \n9:00am – Membership Meeting with a Resource Presentation \n10:15am – CEU Opportunity\, How Sexual Abuse Affects Behavior and Ways to Address It\, Jesseca Cox\, Outward Bound Support Services \n 
URL:https://inabc.org/event/april-association-meeting-ceu-opportunity-2/
LOCATION:Zoom Session:  URL TBA
END:VEVENT
BEGIN:VEVENT
DTSTART;TZID=America/Indiana/Indianapolis:20230120T090000
DTEND;TZID=America/Indiana/Indianapolis:20230120T120000
DTSTAMP:20260423T134559
CREATED:20230117T232832Z
LAST-MODIFIED:20230117T232832Z
UID:4686-1674205200-1674216000@inabc.org
SUMMARY:January // Association Meeting & CEU Opportunity
DESCRIPTION:January 20\, 2023 \n9:00am – Membership Meeting \n10:00am – CEU Opportunity\, The Settings Rule\, Modifications and Behavior Services\, Kelly Hartman\, INABC Liaison\, Insights/ViaQuest
URL:https://inabc.org/event/january-association-meeting-ceu-opportunity/
LOCATION:Zoom Session:  URL TBA
END:VEVENT
BEGIN:VEVENT
DTSTART;TZID=America/Indiana/Indianapolis:20221216T090000
DTEND;TZID=America/Indiana/Indianapolis:20221216T110000
DTSTAMP:20260423T134559
CREATED:20220204T054104Z
LAST-MODIFIED:20220204T054104Z
UID:4351-1671181200-1671188400@inabc.org
SUMMARY:December // CEU Opportunity
DESCRIPTION:Topic:  Ethics\nPresenters:  Jennifer David\, BCBA and Kayla Loucks\, MA\, Outward Bound Support Services\, LLC \n// Live session delivered via Zoom
URL:https://inabc.org/event/december-ceu-opportunity/
LOCATION:Zoom Session:  URL TBA
END:VEVENT
BEGIN:VEVENT
DTSTART;TZID=America/Indiana/Indianapolis:20221118T090000
DTEND;TZID=America/Indiana/Indianapolis:20221118T110000
DTSTAMP:20260423T134559
CREATED:20220204T053935Z
LAST-MODIFIED:20220204T053935Z
UID:4349-1668762000-1668769200@inabc.org
SUMMARY:November // CEU Opportunity
DESCRIPTION:Topic:  Transitioning Students from High School to Adulthood\nPresenters:  Lisa Nale\, MA\, Ferraro Behavior Services \n// Live session delivered via Zoom
URL:https://inabc.org/event/november-ceu-opportunity/
LOCATION:Zoom Session:  URL TBA
END:VEVENT
BEGIN:VEVENT
DTSTART;TZID=America/Indiana/Indianapolis:20221021T090000
DTEND;TZID=America/Indiana/Indianapolis:20221021T110000
DTSTAMP:20260423T134559
CREATED:20220204T053733Z
LAST-MODIFIED:20220722T154833Z
UID:4347-1666342800-1666350000@inabc.org
SUMMARY:October // CEU Opportunity
DESCRIPTION:Topic:  National Best Practice Standards for Psychoactive Medications Prescribed for Mental Health Diagnoses\nPresenter:  Gina Schenk
URL:https://inabc.org/event/october-ceu-opportunity/
LOCATION:Zoom Session:  URL TBA
END:VEVENT
BEGIN:VEVENT
DTSTART;TZID=America/Indiana/Indianapolis:20220930T090000
DTEND;TZID=America/Indiana/Indianapolis:20220930T120000
DTSTAMP:20260423T134559
CREATED:20220204T053559Z
LAST-MODIFIED:20220908T160110Z
UID:4345-1664528400-1664539200@inabc.org
SUMMARY:September // Association Meeting & CEU Opportunity
DESCRIPTION:Association meeting @ 9:00am \nfollowed by CEU Session @ 10:30am:\nTopic:  Attachment Issues in Individuals with Developmental and Intellectual Disabilities\nSpeaker:  Ross Robertson\, MS\, LMHC\, CCTP\, Insights \n// Live session delivered via Zoom
URL:https://inabc.org/event/september-association-meeting-ceu-opportunity/
LOCATION:Zoom Session:  URL TBA
END:VEVENT
BEGIN:VEVENT
DTSTART;TZID=America/Indiana/Indianapolis:20220819T090000
DTEND;TZID=America/Indiana/Indianapolis:20220819T110000
DTSTAMP:20260423T134559
CREATED:20220204T053357Z
LAST-MODIFIED:20220204T053357Z
UID:4343-1660899600-1660906800@inabc.org
SUMMARY:August // CEU Opportunity
DESCRIPTION:Topic:  Parent/Caregiver Support & Training\nPresenters:  Pam Larr\, LMHC\, BCBA \n// Live session delivered via Zoom
URL:https://inabc.org/event/august-ceu-opportunity/
LOCATION:Zoom Session:  URL TBA
END:VEVENT
BEGIN:VEVENT
DTSTART;TZID=America/Indiana/Indianapolis:20220715T090000
DTEND;TZID=America/Indiana/Indianapolis:20220715T120000
DTSTAMP:20260423T134559
CREATED:20220204T052947Z
LAST-MODIFIED:20220204T053154Z
UID:4339-1657875600-1657886400@inabc.org
SUMMARY:July // Association Meeting & CEU Opportunity
DESCRIPTION:Association meeting @ 9:00am \nfollowed by CEU Session @ 10am:\nTopic:  What’s Love Got to Do with It: Sexuality and Intellectual Disability\nSpeaker:  Dave Hingsburger\, MEd \n// START recorded session delivered via Zoom
URL:https://inabc.org/event/july-ceu-opportunity/
LOCATION:Zoom Session:  URL TBA
END:VEVENT
BEGIN:VEVENT
DTSTART;TZID=America/Indiana/Indianapolis:20220617T090000
DTEND;TZID=America/Indiana/Indianapolis:20220617T110000
DTSTAMP:20260423T134559
CREATED:20220204T052842Z
LAST-MODIFIED:20220204T052842Z
UID:4337-1655456400-1655463600@inabc.org
SUMMARY:June // CEU Opportunity
DESCRIPTION:Topic:  “National Best Practice Standards for Psychoactive Medications Prescribed for Mental Health Diagnoses”\nPresenters:  Gina Wilson Schenk\, MSW\, LCSW\, Opportunities for Positive Growth \n// Live session delivered via Zoom
URL:https://inabc.org/event/june-ceu-opportunity/
LOCATION:Zoom Session:  URL TBA
END:VEVENT
BEGIN:VEVENT
DTSTART;TZID=America/Indiana/Indianapolis:20220520T090000
DTEND;TZID=America/Indiana/Indianapolis:20220520T110000
DTSTAMP:20260423T134559
CREATED:20220204T052652Z
LAST-MODIFIED:20220204T052652Z
UID:4334-1653037200-1653044400@inabc.org
SUMMARY:May // CEU Opportunity
DESCRIPTION:Topic:  “Something’s Different” –Concepts of Change in Adults with I/DD\nPresenters:  Dr. Julie Moran\, Geriatrician/Internist\, Clinical lecturer of Medicine\, Harvard Medical School \n// START recorded session delivered via Zoom
URL:https://inabc.org/event/may-ceu-opportunity/
LOCATION:Zoom Session:  URL TBA
END:VEVENT
BEGIN:VEVENT
DTSTART;TZID=America/Indiana/Indianapolis:20220422T090000
DTEND;TZID=America/Indiana/Indianapolis:20220422T120000
DTSTAMP:20260423T134559
CREATED:20220204T052302Z
LAST-MODIFIED:20220204T052445Z
UID:4331-1650618000-1650628800@inabc.org
SUMMARY:April // Association Meeting & CEU Opportunity
DESCRIPTION:Association meeting @ 9:00am \nfollowed by CEU Session @ 10am:\nTopic:  Sexual Abuse Signs and Prevention\nSpeaker:  Jesseca Cox\, MA\, Outward Bound Support Services\, LLC \n// Live session delivered via Zoom
URL:https://inabc.org/event/april-association-meeting-ceu-opportunity/
LOCATION:Zoom Session:  URL TBA
END:VEVENT
BEGIN:VEVENT
DTSTART;TZID=America/Indiana/Indianapolis:20220318T090000
DTEND;TZID=America/Indiana/Indianapolis:20220318T110000
DTSTAMP:20260423T134559
CREATED:20220204T052026Z
LAST-MODIFIED:20220204T052026Z
UID:4329-1647594000-1647601200@inabc.org
SUMMARY:March // CEU Opportunity
DESCRIPTION:Topic:  Providers’ Perspectives on Trauma\, IDD\, and Trauma-Informed Care\nPresenters:  Jade Presnell\, MS\, LSW\, Insights \n// Live session delivered via Zoom
URL:https://inabc.org/event/march-ceu-opportunity/
LOCATION:Zoom Session:  URL TBA
END:VEVENT
BEGIN:VEVENT
DTSTART;TZID=America/Indiana/Indianapolis:20220218T090000
DTEND;TZID=America/Indiana/Indianapolis:20220218T110000
DTSTAMP:20260423T134559
CREATED:20220204T051418Z
LAST-MODIFIED:20220204T051718Z
UID:4324-1645174800-1645182000@inabc.org
SUMMARY:February // CEU Opportunity
DESCRIPTION:Topic:  Therapeutic Coaching Strategies for Supporting Individuals w/ IDD & Suicidal Ideation\nPresenters:  Meredith Dangel\, MS\, CRC Maggie Robbins\, MA\, LCAT Rémy Jodrey\, MS\, LCMHCA \n// START recorded session delivered via Zoom
URL:https://inabc.org/event/ceu-opportunity/
LOCATION:Zoom Session:  URL TBA
END:VEVENT
BEGIN:VEVENT
DTSTART;TZID=America/Indiana/Indianapolis:20211028T090000
DTEND;TZID=America/Indiana/Indianapolis:20211029T170000
DTSTAMP:20260423T134559
CREATED:20201220T143655Z
LAST-MODIFIED:20210315T114456Z
UID:4037-1635411600-1635526800@inabc.org
SUMMARY:Annual Conference **Canceled**
DESCRIPTION:** this event has been canceled ** \nOctober 28-29\, 2021 \nLocation: \nCourtyard Muncie\nat Horizon Convention Center\n601 South High Street\nMuncie\, IN 47305 \nSpeakers and Agenda: \nTBA
URL:https://inabc.org/event/annual-conference-4/
LOCATION:Courtyard Muncie  at Horizon Convention Center\, 601 South High Street\, Muncie\, IN\, 47305\, United States
END:VEVENT
BEGIN:VEVENT
DTSTART;TZID=America/Indiana/Indianapolis:20211015T090000
DTEND;TZID=America/Indiana/Indianapolis:20211015T120000
DTSTAMP:20260423T134559
CREATED:20210315T114634Z
LAST-MODIFIED:20210315T114723Z
UID:4174-1634288400-1634299200@inabc.org
SUMMARY:October Association Meeting
DESCRIPTION:October 16\, 2021 \nAgenda: \n9:00am — Meeting via Zoom – an invite will be emailed to all members \n10:00am — CEU opportunity via Zoom\nEthics\, presented by Jennifer David\, MA
URL:https://inabc.org/event/october-association-meeting/
LOCATION:IN
END:VEVENT
BEGIN:VEVENT
DTSTART;TZID=America/Indiana/Indianapolis:20210716T090000
DTEND;TZID=America/Indiana/Indianapolis:20210716T120000
DTSTAMP:20260423T134559
CREATED:20201220T143545Z
LAST-MODIFIED:20210315T114238Z
UID:4034-1626426000-1626436800@inabc.org
SUMMARY:July Association Meeting
DESCRIPTION:July 16\, 2021 \nAgenda: \n9:00am — Meeting via Zoom – an invite will be emailed to all members \n10:00am — CEU opportunity via Zoom\nSupporting Purpose and Meaning in the Lives of Individuals with Mental Health Challenges and IDD\, presented by Michael Smull\, and Dr. Jill Hinton \n 
URL:https://inabc.org/event/april-association-meeting-5/
LOCATION:IN
END:VEVENT
BEGIN:VEVENT
DTSTART;TZID=America/Indiana/Indianapolis:20210416T090000
DTEND;TZID=America/Indiana/Indianapolis:20210416T120000
DTSTAMP:20260423T134559
CREATED:20201220T143826Z
LAST-MODIFIED:20210315T114055Z
UID:4039-1618563600-1618574400@inabc.org
SUMMARY:April Association Meeting
DESCRIPTION:April 16\, 2021 \nAgenda: \n9:00am — Meeting via Zoom – an invite will be emailed to all members \n10:00am — CEU opportunity via Zoom\nPolyvagal Theory and Autonomic Nervous System Stabilization\, presented by Ross Robertson\, MS\, LMHC
URL:https://inabc.org/event/april-association-meeting-6/
LOCATION:IN
END:VEVENT
BEGIN:VEVENT
DTSTART;TZID=America/Indiana/Indianapolis:20210115T090000
DTEND;TZID=America/Indiana/Indianapolis:20210115T120000
DTSTAMP:20260423T134559
CREATED:20201220T143511Z
LAST-MODIFIED:20201220T150300Z
UID:4032-1610701200-1610712000@inabc.org
SUMMARY:January Association Meeting
DESCRIPTION:January 15\, 2021 \nAgenda: \n9:00am — Meeting via Zoom – an invite will be emailed to all members \n10:00am — CEU opportunity via Zoom\nThe Effects of Trauma on Individuals with Intellectual Disabilities\,\npresented by Karyn Harvey\, Ph.D.
URL:https://inabc.org/event/january-association-meeting-4/
LOCATION:IN
END:VEVENT
BEGIN:VEVENT
DTSTART;TZID=America/Indiana/Indianapolis:20201030T093000
DTEND;TZID=America/Indiana/Indianapolis:20201030T140000
DTSTAMP:20260423T134559
CREATED:20200824T185232Z
LAST-MODIFIED:20200824T185606Z
UID:3980-1604050200-1604066400@inabc.org
SUMMARY:October Association Meeting
DESCRIPTION:** * tentatively scheduled\, CEU Opportunity not yet established ** \nAgenda: \n9:30am — Meeting via Zoom – invite will be emailed to members
URL:https://inabc.org/event/october-association-meetingx/
LOCATION:IN
END:VEVENT
BEGIN:VEVENT
DTSTART;TZID=America/Indiana/Indianapolis:20201029T083000
DTEND;TZID=America/Indiana/Indianapolis:20201030T160000
DTSTAMP:20260423T134559
CREATED:20191220T172623Z
LAST-MODIFIED:20200820T203334Z
UID:3910-1603960200-1604073600@inabc.org
SUMMARY:** Canceled ** // Annual Conference
DESCRIPTION:Courtyard Muncie\nat Horizon Convention Center\n601 South High Street\nMuncie\, IN 47305 \n** This event has been canceled. **
URL:https://inabc.org/event/annual-conference-3/
LOCATION:Courtyard Muncie  at Horizon Convention Center\, 601 South High Street\, Muncie\, IN\, 47305\, United States
END:VEVENT
BEGIN:VEVENT
DTSTART;TZID=America/Indiana/Indianapolis:20200710T093000
DTEND;TZID=America/Indiana/Indianapolis:20200710T150000
DTSTAMP:20260423T134559
CREATED:20191220T172511Z
LAST-MODIFIED:20200626T132727Z
UID:3908-1594373400-1594393200@inabc.org
SUMMARY:July Association Meeting
DESCRIPTION:Agenda: \n9:30am — Meeting via Zoom – invite emailed to members \n10:30am — CEU opportunity\nPharmacist Luke Mansfield\nCommon Psychotropic Medication Side Effects
URL:https://inabc.org/event/july-association-meeting-2/
LOCATION:Location:  TBA
END:VEVENT
BEGIN:VEVENT
DTSTART;TZID=America/Indiana/Indianapolis:20200417T093000
DTEND;TZID=America/Indiana/Indianapolis:20200417T150000
DTSTAMP:20260423T134559
CREATED:20191220T172320Z
LAST-MODIFIED:20191220T172438Z
UID:3905-1587115800-1587135600@inabc.org
SUMMARY:April Association Meeting
DESCRIPTION:Agenda: \n9:30a – 11:30a — Membership Meeting (details and agenda to follow)\n11:30a -1:00p — Catered Lunch\, Committee Meetings\, Networking \nCEU Opportunity: 1:00p – 3:00p\nSusan Elsworth\, Director INOFAS\, Fetal Alcohol Syndrome
URL:https://inabc.org/event/april-association-meeting-4/
LOCATION:Fishers Public Library\, Five Municipal Drive\, Fishers\, IN\, 46038\, United States
END:VEVENT
BEGIN:VEVENT
DTSTART;TZID=America/Indiana/Indianapolis:20200117T093000
DTEND;TZID=America/Indiana/Indianapolis:20200117T150000
DTSTAMP:20260423T134559
CREATED:20191220T171939Z
LAST-MODIFIED:20200110T165436Z
UID:3901-1579253400-1579273200@inabc.org
SUMMARY:January Association Meeting
DESCRIPTION:Agenda: \n9:30a:  Kim Opsahl\, Associate Director\, Division of Disability & Rehabilitative Services // Feedback\, and Listening Session re: Waiver Redesign\n10:30a:  Liaison Report\n11:00a:  Board member reports \n12:00p: Catered Lunch and Committee Meetings \n1:00 – 3:00p:  CEU Presentation // Nicole Gilmore\, Online Catfishing\, and Other Forms of Exploitation
URL:https://inabc.org/event/january-association-meeting-3/
LOCATION:Fishers Public Library\, Five Municipal Drive\, Fishers\, IN\, 46038\, United States
END:VEVENT
BEGIN:VEVENT
DTSTART;VALUE=DATE:20191107
DTEND;VALUE=DATE:20191109
DTSTAMP:20260423T134559
CREATED:20190102T191613Z
LAST-MODIFIED:20190102T191613Z
UID:3705-1573084800-1573257599@inabc.org
SUMMARY:Annual Conference
DESCRIPTION:Courtyard Muncie\nat Horizon Convention Center\n601 South High Street\nMuncie\, IN 47305 \nall details TBA
URL:https://inabc.org/event/annual-conference-2/
LOCATION:Courtyard Muncie  at Horizon Convention Center\, 601 South High Street\, Muncie\, IN\, 47305\, United States
END:VEVENT
BEGIN:VEVENT
DTSTART;TZID=America/Indiana/Indianapolis:20190726T090000
DTEND;TZID=America/Indiana/Indianapolis:20190726T150000
DTSTAMP:20260423T134559
CREATED:20190102T191244Z
LAST-MODIFIED:20190717T181744Z
UID:3703-1564131600-1564153200@inabc.org
SUMMARY:July Association Meeting
DESCRIPTION:Agenda: \n9:30a – 11:30a — Membership Meeting (details and agenda to follow)\n11:30a -1p — Catered Lunch\, Committee Meetings\, Networking \nCEU Opportunity: \n1p – 3p – Trena Anderson: Sexuality and Intellectual Disabilities
URL:https://inabc.org/event/july-association-meeting/
LOCATION:Fishers Public Library\, Five Municipal Drive\, Fishers\, IN\, 46038\, United States
END:VEVENT
BEGIN:VEVENT
DTSTART;TZID=America/Indiana/Indianapolis:20190412T093000
DTEND;TZID=America/Indiana/Indianapolis:20190412T150000
DTSTAMP:20260423T134559
CREATED:20190102T191136Z
LAST-MODIFIED:20190409T231247Z
UID:3701-1555061400-1555081200@inabc.org
SUMMARY:April Association Meeting
DESCRIPTION:Tentative Agenda: \n9:30a – 11:30a — Membership Meeting\, Board Reports\, Committee Reports\, Liaison Report and Update \n11:30a -1p — Lunch Provided – Gluten Free Diet friendly\, Keto Diet friendly \nCEU Opportunity: \n1p – 3p – (2 CEUs) – Dr. Nancy Holsapple\, Director of Special Education for Indiana DOE
URL:https://inabc.org/event/april-association-meeting-3/
LOCATION:Discovery Church\, 10080 East 121st Street\, Fishers\, IN\, 46037\, United States
END:VEVENT
BEGIN:VEVENT
DTSTART;TZID=America/Indiana/Indianapolis:20190118T093000
DTEND;TZID=America/Indiana/Indianapolis:20190118T150000
DTSTAMP:20260423T134559
CREATED:20190102T190458Z
LAST-MODIFIED:20190102T190930Z
UID:3697-1547803800-1547823600@inabc.org
SUMMARY:January Association Meeting
DESCRIPTION:Tentative Agenda: \n9:30a – 11:30a — Membership meeting (details to follow)\n11:30a -1p — Catered lunch \nCEU Opportunity: \n1p – 3p – TBA
URL:https://inabc.org/event/january-association-meeting-2/
LOCATION:Fishers Public Library\, Five Municipal Drive\, Fishers\, IN\, 46038\, United States
END:VEVENT
END:VCALENDAR